BEGIN:VCALENDAR
VERSION:2.0
PRODID:-//Morell Smith Post 440- Newtown, PA - ECPv6.2.9//NONSGML v1.0//EN
CALSCALE:GREGORIAN
METHOD:PUBLISH
X-WR-CALNAME:Morell Smith Post 440- Newtown, PA
X-ORIGINAL-URL:https://post440newtown.org
X-WR-CALDESC:Events for Morell Smith Post 440- Newtown, PA
REFRESH-INTERVAL;VALUE=DURATION:PT1H
X-Robots-Tag:noindex
X-PUBLISHED-TTL:PT1H
BEGIN:VTIMEZONE
TZID:UTC
BEGIN:STANDARD
TZOFFSETFROM:+0000
TZOFFSETTO:+0000
TZNAME:UTC
DTSTART:20280101T000000
END:STANDARD
END:VTIMEZONE
BEGIN:VEVENT
DTSTART;TZID=UTC:20280418T180000
DTEND;TZID=UTC:20280418T193000
DTSTAMP:20260421T110717
CREATED:20260204T173628Z
LAST-MODIFIED:20260204T175009Z
UID:10000176-1839693600-1839699000@post440newtown.org
SUMMARY:General Membership Dinner
DESCRIPTION:Prior to our General Membership Meeting free dinner will be provided and available buffet style before and after the meeting.
URL:https://post440newtown.org/event/general-membership-dinner/2028-04-18/
LOCATION:Morell Smith Post 440\, 41 Linden Ave\, Newtown\, PA\, 18940\, United States
CATEGORIES:General Membership Dinner
END:VEVENT
BEGIN:VEVENT
DTSTART;TZID=UTC:20280516T180000
DTEND;TZID=UTC:20280516T193000
DTSTAMP:20260421T110717
CREATED:20260204T173628Z
LAST-MODIFIED:20260204T175009Z
UID:10000177-1842112800-1842118200@post440newtown.org
SUMMARY:General Membership Dinner
DESCRIPTION:Prior to our General Membership Meeting free dinner will be provided and available buffet style before and after the meeting.
URL:https://post440newtown.org/event/general-membership-dinner/2028-05-16/
LOCATION:Morell Smith Post 440\, 41 Linden Ave\, Newtown\, PA\, 18940\, United States
CATEGORIES:General Membership Dinner
END:VEVENT
BEGIN:VEVENT
DTSTART;TZID=UTC:20280620T180000
DTEND;TZID=UTC:20280620T193000
DTSTAMP:20260421T110717
CREATED:20260204T173628Z
LAST-MODIFIED:20260204T175009Z
UID:10000178-1845136800-1845142200@post440newtown.org
SUMMARY:General Membership Dinner
DESCRIPTION:Prior to our General Membership Meeting free dinner will be provided and available buffet style before and after the meeting.
URL:https://post440newtown.org/event/general-membership-dinner/2028-06-20/
LOCATION:Morell Smith Post 440\, 41 Linden Ave\, Newtown\, PA\, 18940\, United States
CATEGORIES:General Membership Dinner
END:VEVENT
BEGIN:VEVENT
DTSTART;TZID=UTC:20280718T180000
DTEND;TZID=UTC:20280718T193000
DTSTAMP:20260421T110717
CREATED:20260204T173628Z
LAST-MODIFIED:20260204T175009Z
UID:10000179-1847556000-1847561400@post440newtown.org
SUMMARY:General Membership Dinner
DESCRIPTION:Prior to our General Membership Meeting free dinner will be provided and available buffet style before and after the meeting.
URL:https://post440newtown.org/event/general-membership-dinner/2028-07-18/
LOCATION:Morell Smith Post 440\, 41 Linden Ave\, Newtown\, PA\, 18940\, United States
CATEGORIES:General Membership Dinner
END:VEVENT
BEGIN:VEVENT
DTSTART;TZID=UTC:20280815T180000
DTEND;TZID=UTC:20280815T193000
DTSTAMP:20260421T110717
CREATED:20260204T173628Z
LAST-MODIFIED:20260204T175009Z
UID:10000180-1849975200-1849980600@post440newtown.org
SUMMARY:General Membership Dinner
DESCRIPTION:Prior to our General Membership Meeting free dinner will be provided and available buffet style before and after the meeting.
URL:https://post440newtown.org/event/general-membership-dinner/2028-08-15/
LOCATION:Morell Smith Post 440\, 41 Linden Ave\, Newtown\, PA\, 18940\, United States
CATEGORIES:General Membership Dinner
END:VEVENT
BEGIN:VEVENT
DTSTART;TZID=UTC:20280919T180000
DTEND;TZID=UTC:20280919T193000
DTSTAMP:20260421T110717
CREATED:20260204T173628Z
LAST-MODIFIED:20260204T175009Z
UID:10000181-1852999200-1853004600@post440newtown.org
SUMMARY:General Membership Dinner
DESCRIPTION:Prior to our General Membership Meeting free dinner will be provided and available buffet style before and after the meeting.
URL:https://post440newtown.org/event/general-membership-dinner/2028-09-19/
LOCATION:Morell Smith Post 440\, 41 Linden Ave\, Newtown\, PA\, 18940\, United States
CATEGORIES:General Membership Dinner
END:VEVENT
BEGIN:VEVENT
DTSTART;TZID=UTC:20281017T180000
DTEND;TZID=UTC:20281017T193000
DTSTAMP:20260421T110717
CREATED:20260204T173628Z
LAST-MODIFIED:20260204T175009Z
UID:10000182-1855418400-1855423800@post440newtown.org
SUMMARY:General Membership Dinner
DESCRIPTION:Prior to our General Membership Meeting free dinner will be provided and available buffet style before and after the meeting.
URL:https://post440newtown.org/event/general-membership-dinner/2028-10-17/
LOCATION:Morell Smith Post 440\, 41 Linden Ave\, Newtown\, PA\, 18940\, United States
CATEGORIES:General Membership Dinner
END:VEVENT
BEGIN:VEVENT
DTSTART;TZID=UTC:20281121T180000
DTEND;TZID=UTC:20281121T193000
DTSTAMP:20260421T110717
CREATED:20260204T173628Z
LAST-MODIFIED:20260204T175009Z
UID:10000183-1858442400-1858447800@post440newtown.org
SUMMARY:General Membership Dinner
DESCRIPTION:Prior to our General Membership Meeting free dinner will be provided and available buffet style before and after the meeting.
URL:https://post440newtown.org/event/general-membership-dinner/2028-11-21/
LOCATION:Morell Smith Post 440\, 41 Linden Ave\, Newtown\, PA\, 18940\, United States
CATEGORIES:General Membership Dinner
END:VEVENT
BEGIN:VEVENT
DTSTART;TZID=UTC:20281219T180000
DTEND;TZID=UTC:20281219T193000
DTSTAMP:20260421T110717
CREATED:20260204T173628Z
LAST-MODIFIED:20260204T175009Z
UID:10000184-1860861600-1860867000@post440newtown.org
SUMMARY:General Membership Dinner
DESCRIPTION:Prior to our General Membership Meeting free dinner will be provided and available buffet style before and after the meeting.
URL:https://post440newtown.org/event/general-membership-dinner/2028-12-19/
LOCATION:Morell Smith Post 440\, 41 Linden Ave\, Newtown\, PA\, 18940\, United States
CATEGORIES:General Membership Dinner
END:VEVENT
BEGIN:VEVENT
DTSTART;TZID=UTC:20290116T180000
DTEND;TZID=UTC:20290116T193000
DTSTAMP:20260421T110717
CREATED:20260204T173628Z
LAST-MODIFIED:20260204T175009Z
UID:10000185-1863280800-1863286200@post440newtown.org
SUMMARY:General Membership Dinner
DESCRIPTION:Prior to our General Membership Meeting free dinner will be provided and available buffet style before and after the meeting.
URL:https://post440newtown.org/event/general-membership-dinner/2029-01-16/
LOCATION:Morell Smith Post 440\, 41 Linden Ave\, Newtown\, PA\, 18940\, United States
CATEGORIES:General Membership Dinner
END:VEVENT
BEGIN:VEVENT
DTSTART;TZID=UTC:20290220T180000
DTEND;TZID=UTC:20290220T193000
DTSTAMP:20260421T110717
CREATED:20260204T173628Z
LAST-MODIFIED:20260204T175009Z
UID:10000186-1866304800-1866310200@post440newtown.org
SUMMARY:General Membership Dinner
DESCRIPTION:Prior to our General Membership Meeting free dinner will be provided and available buffet style before and after the meeting.
URL:https://post440newtown.org/event/general-membership-dinner/2029-02-20/
LOCATION:Morell Smith Post 440\, 41 Linden Ave\, Newtown\, PA\, 18940\, United States
CATEGORIES:General Membership Dinner
END:VEVENT
BEGIN:VEVENT
DTSTART;TZID=UTC:20290320T180000
DTEND;TZID=UTC:20290320T193000
DTSTAMP:20260421T110717
CREATED:20260204T173628Z
LAST-MODIFIED:20260204T175009Z
UID:10000187-1868724000-1868729400@post440newtown.org
SUMMARY:General Membership Dinner
DESCRIPTION:Prior to our General Membership Meeting free dinner will be provided and available buffet style before and after the meeting.
URL:https://post440newtown.org/event/general-membership-dinner/2029-03-20/
LOCATION:Morell Smith Post 440\, 41 Linden Ave\, Newtown\, PA\, 18940\, United States
CATEGORIES:General Membership Dinner
END:VEVENT
BEGIN:VEVENT
DTSTART;TZID=UTC:20290417T180000
DTEND;TZID=UTC:20290417T193000
DTSTAMP:20260421T110717
CREATED:20260204T173628Z
LAST-MODIFIED:20260204T175009Z
UID:10000188-1871143200-1871148600@post440newtown.org
SUMMARY:General Membership Dinner
DESCRIPTION:Prior to our General Membership Meeting free dinner will be provided and available buffet style before and after the meeting.
URL:https://post440newtown.org/event/general-membership-dinner/2029-04-17/
LOCATION:Morell Smith Post 440\, 41 Linden Ave\, Newtown\, PA\, 18940\, United States
CATEGORIES:General Membership Dinner
END:VEVENT
BEGIN:VEVENT
DTSTART;TZID=UTC:20290515T180000
DTEND;TZID=UTC:20290515T193000
DTSTAMP:20260421T110717
CREATED:20260204T173628Z
LAST-MODIFIED:20260204T175009Z
UID:10000189-1873562400-1873567800@post440newtown.org
SUMMARY:General Membership Dinner
DESCRIPTION:Prior to our General Membership Meeting free dinner will be provided and available buffet style before and after the meeting.
URL:https://post440newtown.org/event/general-membership-dinner/2029-05-15/
LOCATION:Morell Smith Post 440\, 41 Linden Ave\, Newtown\, PA\, 18940\, United States
CATEGORIES:General Membership Dinner
END:VEVENT
BEGIN:VEVENT
DTSTART;TZID=UTC:20290619T180000
DTEND;TZID=UTC:20290619T193000
DTSTAMP:20260421T110717
CREATED:20260204T173628Z
LAST-MODIFIED:20260204T175009Z
UID:10000190-1876586400-1876591800@post440newtown.org
SUMMARY:General Membership Dinner
DESCRIPTION:Prior to our General Membership Meeting free dinner will be provided and available buffet style before and after the meeting.
URL:https://post440newtown.org/event/general-membership-dinner/2029-06-19/
LOCATION:Morell Smith Post 440\, 41 Linden Ave\, Newtown\, PA\, 18940\, United States
CATEGORIES:General Membership Dinner
END:VEVENT
BEGIN:VEVENT
DTSTART;TZID=UTC:20290717T180000
DTEND;TZID=UTC:20290717T193000
DTSTAMP:20260421T110717
CREATED:20260204T173628Z
LAST-MODIFIED:20260204T175009Z
UID:10000191-1879005600-1879011000@post440newtown.org
SUMMARY:General Membership Dinner
DESCRIPTION:Prior to our General Membership Meeting free dinner will be provided and available buffet style before and after the meeting.
URL:https://post440newtown.org/event/general-membership-dinner/2029-07-17/
LOCATION:Morell Smith Post 440\, 41 Linden Ave\, Newtown\, PA\, 18940\, United States
CATEGORIES:General Membership Dinner
END:VEVENT
BEGIN:VEVENT
DTSTART;TZID=UTC:20290821T180000
DTEND;TZID=UTC:20290821T193000
DTSTAMP:20260421T110717
CREATED:20260204T173628Z
LAST-MODIFIED:20260204T175009Z
UID:10000192-1882029600-1882035000@post440newtown.org
SUMMARY:General Membership Dinner
DESCRIPTION:Prior to our General Membership Meeting free dinner will be provided and available buffet style before and after the meeting.
URL:https://post440newtown.org/event/general-membership-dinner/2029-08-21/
LOCATION:Morell Smith Post 440\, 41 Linden Ave\, Newtown\, PA\, 18940\, United States
CATEGORIES:General Membership Dinner
END:VEVENT
BEGIN:VEVENT
DTSTART;TZID=UTC:20290918T180000
DTEND;TZID=UTC:20290918T193000
DTSTAMP:20260421T110717
CREATED:20260204T173628Z
LAST-MODIFIED:20260204T175009Z
UID:10000193-1884448800-1884454200@post440newtown.org
SUMMARY:General Membership Dinner
DESCRIPTION:Prior to our General Membership Meeting free dinner will be provided and available buffet style before and after the meeting.
URL:https://post440newtown.org/event/general-membership-dinner/2029-09-18/
LOCATION:Morell Smith Post 440\, 41 Linden Ave\, Newtown\, PA\, 18940\, United States
CATEGORIES:General Membership Dinner
END:VEVENT
BEGIN:VEVENT
DTSTART;TZID=UTC:20291016T180000
DTEND;TZID=UTC:20291016T193000
DTSTAMP:20260421T110717
CREATED:20260204T173628Z
LAST-MODIFIED:20260204T175009Z
UID:10000194-1886868000-1886873400@post440newtown.org
SUMMARY:General Membership Dinner
DESCRIPTION:Prior to our General Membership Meeting free dinner will be provided and available buffet style before and after the meeting.
URL:https://post440newtown.org/event/general-membership-dinner/2029-10-16/
LOCATION:Morell Smith Post 440\, 41 Linden Ave\, Newtown\, PA\, 18940\, United States
CATEGORIES:General Membership Dinner
END:VEVENT
BEGIN:VEVENT
DTSTART;TZID=UTC:20291120T180000
DTEND;TZID=UTC:20291120T193000
DTSTAMP:20260421T110717
CREATED:20260204T173628Z
LAST-MODIFIED:20260204T175009Z
UID:10000195-1889892000-1889897400@post440newtown.org
SUMMARY:General Membership Dinner
DESCRIPTION:Prior to our General Membership Meeting free dinner will be provided and available buffet style before and after the meeting.
URL:https://post440newtown.org/event/general-membership-dinner/2029-11-20/
LOCATION:Morell Smith Post 440\, 41 Linden Ave\, Newtown\, PA\, 18940\, United States
CATEGORIES:General Membership Dinner
END:VEVENT
BEGIN:VEVENT
DTSTART;TZID=UTC:20291218T180000
DTEND;TZID=UTC:20291218T193000
DTSTAMP:20260421T110717
CREATED:20260204T173628Z
LAST-MODIFIED:20260204T175009Z
UID:10000196-1892311200-1892316600@post440newtown.org
SUMMARY:General Membership Dinner
DESCRIPTION:Prior to our General Membership Meeting free dinner will be provided and available buffet style before and after the meeting.
URL:https://post440newtown.org/event/general-membership-dinner/2029-12-18/
LOCATION:Morell Smith Post 440\, 41 Linden Ave\, Newtown\, PA\, 18940\, United States
CATEGORIES:General Membership Dinner
END:VEVENT
BEGIN:VEVENT
DTSTART;TZID=UTC:20300115T180000
DTEND;TZID=UTC:20300115T193000
DTSTAMP:20260421T110717
CREATED:20260204T173628Z
LAST-MODIFIED:20260204T175009Z
UID:10000197-1894730400-1894735800@post440newtown.org
SUMMARY:General Membership Dinner
DESCRIPTION:Prior to our General Membership Meeting free dinner will be provided and available buffet style before and after the meeting.
URL:https://post440newtown.org/event/general-membership-dinner/2030-01-15/
LOCATION:Morell Smith Post 440\, 41 Linden Ave\, Newtown\, PA\, 18940\, United States
CATEGORIES:General Membership Dinner
END:VEVENT
BEGIN:VEVENT
DTSTART;TZID=UTC:20300219T180000
DTEND;TZID=UTC:20300219T193000
DTSTAMP:20260421T110717
CREATED:20260204T173628Z
LAST-MODIFIED:20260204T175009Z
UID:10000198-1897754400-1897759800@post440newtown.org
SUMMARY:General Membership Dinner
DESCRIPTION:Prior to our General Membership Meeting free dinner will be provided and available buffet style before and after the meeting.
URL:https://post440newtown.org/event/general-membership-dinner/2030-02-19/
LOCATION:Morell Smith Post 440\, 41 Linden Ave\, Newtown\, PA\, 18940\, United States
CATEGORIES:General Membership Dinner
END:VEVENT
BEGIN:VEVENT
DTSTART;TZID=UTC:20300319T180000
DTEND;TZID=UTC:20300319T193000
DTSTAMP:20260421T110717
CREATED:20260204T173628Z
LAST-MODIFIED:20260204T175009Z
UID:10000199-1900173600-1900179000@post440newtown.org
SUMMARY:General Membership Dinner
DESCRIPTION:Prior to our General Membership Meeting free dinner will be provided and available buffet style before and after the meeting.
URL:https://post440newtown.org/event/general-membership-dinner/2030-03-19/
LOCATION:Morell Smith Post 440\, 41 Linden Ave\, Newtown\, PA\, 18940\, United States
CATEGORIES:General Membership Dinner
END:VEVENT
BEGIN:VEVENT
DTSTART;TZID=UTC:20300416T180000
DTEND;TZID=UTC:20300416T193000
DTSTAMP:20260421T110717
CREATED:20260204T173628Z
LAST-MODIFIED:20260204T175009Z
UID:10000200-1902592800-1902598200@post440newtown.org
SUMMARY:General Membership Dinner
DESCRIPTION:Prior to our General Membership Meeting free dinner will be provided and available buffet style before and after the meeting.
URL:https://post440newtown.org/event/general-membership-dinner/2030-04-16/
LOCATION:Morell Smith Post 440\, 41 Linden Ave\, Newtown\, PA\, 18940\, United States
CATEGORIES:General Membership Dinner
END:VEVENT
BEGIN:VEVENT
DTSTART;TZID=UTC:20300521T180000
DTEND;TZID=UTC:20300521T193000
DTSTAMP:20260421T110717
CREATED:20260204T173628Z
LAST-MODIFIED:20260204T175009Z
UID:10000201-1905616800-1905622200@post440newtown.org
SUMMARY:General Membership Dinner
DESCRIPTION:Prior to our General Membership Meeting free dinner will be provided and available buffet style before and after the meeting.
URL:https://post440newtown.org/event/general-membership-dinner/2030-05-21/
LOCATION:Morell Smith Post 440\, 41 Linden Ave\, Newtown\, PA\, 18940\, United States
CATEGORIES:General Membership Dinner
END:VEVENT
BEGIN:VEVENT
DTSTART;TZID=UTC:20300618T180000
DTEND;TZID=UTC:20300618T193000
DTSTAMP:20260421T110717
CREATED:20260204T173628Z
LAST-MODIFIED:20260204T175009Z
UID:10000202-1908036000-1908041400@post440newtown.org
SUMMARY:General Membership Dinner
DESCRIPTION:Prior to our General Membership Meeting free dinner will be provided and available buffet style before and after the meeting.
URL:https://post440newtown.org/event/general-membership-dinner/2030-06-18/
LOCATION:Morell Smith Post 440\, 41 Linden Ave\, Newtown\, PA\, 18940\, United States
CATEGORIES:General Membership Dinner
END:VEVENT
BEGIN:VEVENT
DTSTART;TZID=UTC:20300716T180000
DTEND;TZID=UTC:20300716T193000
DTSTAMP:20260421T110717
CREATED:20260204T173628Z
LAST-MODIFIED:20260204T175009Z
UID:10000203-1910455200-1910460600@post440newtown.org
SUMMARY:General Membership Dinner
DESCRIPTION:Prior to our General Membership Meeting free dinner will be provided and available buffet style before and after the meeting.
URL:https://post440newtown.org/event/general-membership-dinner/2030-07-16/
LOCATION:Morell Smith Post 440\, 41 Linden Ave\, Newtown\, PA\, 18940\, United States
CATEGORIES:General Membership Dinner
END:VEVENT
BEGIN:VEVENT
DTSTART;TZID=UTC:20300820T180000
DTEND;TZID=UTC:20300820T193000
DTSTAMP:20260421T110717
CREATED:20260204T173628Z
LAST-MODIFIED:20260204T175009Z
UID:10000204-1913479200-1913484600@post440newtown.org
SUMMARY:General Membership Dinner
DESCRIPTION:Prior to our General Membership Meeting free dinner will be provided and available buffet style before and after the meeting.
URL:https://post440newtown.org/event/general-membership-dinner/2030-08-20/
LOCATION:Morell Smith Post 440\, 41 Linden Ave\, Newtown\, PA\, 18940\, United States
CATEGORIES:General Membership Dinner
END:VEVENT
BEGIN:VEVENT
DTSTART;TZID=UTC:20300917T180000
DTEND;TZID=UTC:20300917T193000
DTSTAMP:20260421T110717
CREATED:20260204T173628Z
LAST-MODIFIED:20260204T175009Z
UID:10000205-1915898400-1915903800@post440newtown.org
SUMMARY:General Membership Dinner
DESCRIPTION:Prior to our General Membership Meeting free dinner will be provided and available buffet style before and after the meeting.
URL:https://post440newtown.org/event/general-membership-dinner/2030-09-17/
LOCATION:Morell Smith Post 440\, 41 Linden Ave\, Newtown\, PA\, 18940\, United States
CATEGORIES:General Membership Dinner
END:VEVENT
END:VCALENDAR